BEGIN:VCALENDAR
VERSION:2.0
PRODID:-//NoBlie - ECPv5.16.4//NONSGML v1.0//EN
CALSCALE:GREGORIAN
METHOD:PUBLISH
X-WR-CALNAME:NoBlie
X-ORIGINAL-URL:https://noblie.de
X-WR-CALDESC:Veranstaltungen für NoBlie
BEGIN:VTIMEZONE
TZID:Europe/Berlin
BEGIN:DAYLIGHT
TZOFFSETFROM:+0100
TZOFFSETTO:+0200
TZNAME:CEST
DTSTART:20200329T010000
END:DAYLIGHT
BEGIN:STANDARD
TZOFFSETFROM:+0200
TZOFFSETTO:+0100
TZNAME:CET
DTSTART:20201025T010000
END:STANDARD
END:VTIMEZONE
BEGIN:VEVENT
DTSTART;TZID=Europe/Berlin:20201207T180000
DTEND;TZID=Europe/Berlin:20201207T193000
DTSTAMP:20260422T123640
CREATED:20201028T073201Z
LAST-MODIFIED:20201028T073201Z
UID:2189-1607364000-1607369400@noblie.de
SUMMARY:5. Kompetenzteam
DESCRIPTION:
URL:https://noblie.de/veranstaltung/5-kompetenzteam/
LOCATION:online
END:VEVENT
END:VCALENDAR