BEGIN:VCALENDAR
VERSION:2.0
PRODID:-//NoBlie - ECPv5.16.4//NONSGML v1.0//EN
CALSCALE:GREGORIAN
METHOD:PUBLISH
X-WR-CALNAME:NoBlie
X-ORIGINAL-URL:https://noblie.de
X-WR-CALDESC:Veranstaltungen für NoBlie
BEGIN:VTIMEZONE
TZID:Europe/Berlin
BEGIN:DAYLIGHT
TZOFFSETFROM:+0100
TZOFFSETTO:+0200
TZNAME:CEST
DTSTART:20210328T010000
END:DAYLIGHT
BEGIN:STANDARD
TZOFFSETFROM:+0200
TZOFFSETTO:+0100
TZNAME:CET
DTSTART:20211031T010000
END:STANDARD
END:VTIMEZONE
BEGIN:VEVENT
DTSTART;TZID=Europe/Berlin:20210303T183000
DTEND;TZID=Europe/Berlin:20210303T200000
DTSTAMP:20260420T122630
CREATED:20210209T111857Z
LAST-MODIFIED:20210217T183022Z
UID:2212-1614796200-1614801600@noblie.de
SUMMARY:6. Kompetenzteam
DESCRIPTION:21 03 03 – Einladung 6.KT \nGeplante Tagesordnung: \n\nBericht aus den Arbeitsgruppen\nStand der aktuellen und geplanten öffentliche Projekte\nÖffentlichkeitsarbeit\nWie geht es weiter? Sonstiges.\n\nDie Veranstaltung wird nochmals über Zoom als Online – Meeting stattfinden. \nLink: https://zoom.us/j/94122354670?pwd=Tm4zeWZVSlBOS2hGdUdxMSs4Rlkydz09 \nTechnische Hinweise zur Teilnahme am Zoom Meeting finden Sie hier:  Online &#8211; Veranstaltungen \n 
URL:https://noblie.de/veranstaltung/6-kompetenzteam/
LOCATION:online
END:VEVENT
END:VCALENDAR