BEGIN:VCALENDAR
VERSION:2.0
PRODID:-//NoBlie - ECPv5.16.4//NONSGML v1.0//EN
CALSCALE:GREGORIAN
METHOD:PUBLISH
X-WR-CALNAME:NoBlie
X-ORIGINAL-URL:https://noblie.de
X-WR-CALDESC:Veranstaltungen für NoBlie
BEGIN:VTIMEZONE
TZID:Europe/Berlin
BEGIN:DAYLIGHT
TZOFFSETFROM:+0100
TZOFFSETTO:+0200
TZNAME:CEST
DTSTART:20210328T010000
END:DAYLIGHT
BEGIN:STANDARD
TZOFFSETFROM:+0200
TZOFFSETTO:+0100
TZNAME:CET
DTSTART:20211031T010000
END:STANDARD
END:VTIMEZONE
BEGIN:VEVENT
DTSTART;TZID=Europe/Berlin:20210720T183000
DTEND;TZID=Europe/Berlin:20210720T200000
DTSTAMP:20260420T123854
CREATED:20210614T125212Z
LAST-MODIFIED:20210715T141945Z
UID:2267-1626805800-1626811200@noblie.de
SUMMARY:8. Kompetenzteam
DESCRIPTION:Einladung: 210720 – Einladung 8.KT \nDie Veranstaltung findet zu den zum Zeitpunkt der Veranstaltung gültigen Corona – Regelungen statt.
URL:https://noblie.de/veranstaltung/8-kompetenzteam/
LOCATION:Mensa der Oberschule Horneburg\, Schanzenstraße 19\, Horneburg\, 21640\, Deutschland
END:VEVENT
END:VCALENDAR