BEGIN:VCALENDAR
VERSION:2.0
PRODID:-//NoBlie - ECPv5.16.4//NONSGML v1.0//EN
CALSCALE:GREGORIAN
METHOD:PUBLISH
X-WR-CALNAME:NoBlie
X-ORIGINAL-URL:https://noblie.de
X-WR-CALDESC:Veranstaltungen für NoBlie
BEGIN:VTIMEZONE
TZID:Europe/Berlin
BEGIN:DAYLIGHT
TZOFFSETFROM:+0100
TZOFFSETTO:+0200
TZNAME:CEST
DTSTART:20210328T010000
END:DAYLIGHT
BEGIN:STANDARD
TZOFFSETFROM:+0200
TZOFFSETTO:+0100
TZNAME:CET
DTSTART:20211031T010000
END:STANDARD
END:VTIMEZONE
BEGIN:VEVENT
DTSTART;TZID=Europe/Berlin:20211215T193000
DTEND;TZID=Europe/Berlin:20211215T203000
DTSTAMP:20260420T141158
CREATED:20211213T111408Z
LAST-MODIFIED:20211213T111408Z
UID:2336-1639596600-1639600200@noblie.de
SUMMARY:AG Treffen: Grün + Wege
DESCRIPTION:Organisiert und durchgeführt unter Regie der AG – Sprechenden \n 
URL:https://noblie.de/veranstaltung/ag-treffen-gruen-wege/
LOCATION:online
END:VEVENT
END:VCALENDAR