BEGIN:VCALENDAR
VERSION:2.0
PRODID:-//NoBlie - ECPv5.16.4//NONSGML v1.0//EN
CALSCALE:GREGORIAN
METHOD:PUBLISH
X-WR-CALNAME:NoBlie
X-ORIGINAL-URL:https://noblie.de
X-WR-CALDESC:Veranstaltungen für NoBlie
BEGIN:VTIMEZONE
TZID:Europe/Berlin
BEGIN:DAYLIGHT
TZOFFSETFROM:+0100
TZOFFSETTO:+0200
TZNAME:CEST
DTSTART:20200329T010000
END:DAYLIGHT
BEGIN:STANDARD
TZOFFSETFROM:+0200
TZOFFSETTO:+0100
TZNAME:CET
DTSTART:20201025T010000
END:STANDARD
END:VTIMEZONE
BEGIN:VEVENT
DTSTART;TZID=Europe/Berlin:20200118T133000
DTEND;TZID=Europe/Berlin:20200118T153000
DTSTAMP:20260420T143423
CREATED:20200115T105610Z
LAST-MODIFIED:20200116T101445Z
UID:2023-1579354200-1579361400@noblie.de
SUMMARY:Grün- und Wege-AG: Begehung Wege Auetal
DESCRIPTION:Wir treffen uns am Samstag\, 18. Januar\, um Wege am/ im Auetal von Bliedersdorf nach Postmoor in Augenschein zu nehmen (C 08-04 bzw. C 08-07 des DE-Planes). Treffpunkt ist die Straße „Lohfeld“. Vom Ende aus können wir verschiedene Wege Richtung Auetal erreichen. Entweder wir versuchen\, uns nach Postmoor durchzuschlagen\, oder gucken uns die Situation Richtung Daudiecker Weg an\, oder wir teilen uns auf. Denkt an gutes Schuhwerk! \nTermin: Samstag\, 18.01.\, 13:30 Uhr\, Treffpunkt Lohfeld\, Höhe Hausnr. 5 bzw. Kartoffelscheunen. \nVerantwortlich für die Einladung sind Herr Dammann und Frau Harms / mensch und region wird an diesem Termin nicht teilnehmen.
URL:https://noblie.de/veranstaltung/gruen-und-wege-ag/
END:VEVENT
END:VCALENDAR