BEGIN:VCALENDAR
VERSION:2.0
PRODID:-//NoBlie - ECPv5.16.4//NONSGML v1.0//EN
CALSCALE:GREGORIAN
METHOD:PUBLISH
X-WR-CALNAME:NoBlie
X-ORIGINAL-URL:https://noblie.de
X-WR-CALDESC:Veranstaltungen für NoBlie
BEGIN:VTIMEZONE
TZID:Europe/Berlin
BEGIN:DAYLIGHT
TZOFFSETFROM:+0100
TZOFFSETTO:+0200
TZNAME:CEST
DTSTART:20190331T010000
END:DAYLIGHT
BEGIN:STANDARD
TZOFFSETFROM:+0200
TZOFFSETTO:+0100
TZNAME:CET
DTSTART:20191027T010000
END:STANDARD
END:VTIMEZONE
BEGIN:VEVENT
DTSTART;TZID=Europe/Berlin:20191024T173000
DTEND;TZID=Europe/Berlin:20191024T193000
DTSTAMP:20260421T104712
CREATED:20190912T073731Z
LAST-MODIFIED:20191014T164539Z
UID:1923-1571938200-1571945400@noblie.de
SUMMARY:Vorstellung Dorfentwicklungsplan + geselliger Abendausklang
DESCRIPTION:Im Anschluss an die Vorstellung des Entwurfs des Dorfentwicklungsplans (17.30 – 19.00 Uhr) wird es ein gemeinsames Essen und einen lockeren\, geselligen Abend geben. \nEinladung: Einladung Berichtentwurf \nWir freuen uns auf Sie. \nVeranstaltungsort: Lindenkrug Bliedersdorf\, Schulstraße 2\, 21640 Bliedersdorf
URL:https://noblie.de/veranstaltung/vorstellung-dorfentwicklungsplan-fest/
LOCATION:Veranstaltungsort folgt
END:VEVENT
END:VCALENDAR